BEGIN:VCALENDAR
VERSION:2.0
PRODID:-//Goldgrube//myauktion.com//AT
CALSCALE:GREGORIAN
BEGIN:VEVENT
DTSTART:20260508T130400
DTEND:20260508T130430
LOCATION:Gewerbepark 13, 8562 Mooskirchen
DTSTAMP:20260425T015255
SUMMARY:MyAuktion: Ablauf Artikel Nr. 957659 KoRo Cashewkerne mit Honig &Zimt 1kg 
URL;VALUE=URI:https://www.myauktion.com/versteigerung7668-position2445000-koro-cashewkerne-mit-honig-38zimt-1kg.php
DESCRIPTION:Mhd 31.7.26
UID:myauktion-7668-2445000
BEGIN:VALARM
ACTION:DISPLAY
DESCRIPTION:Mhd 31.7.26
TRIGGER:-PT10M
END:VALARM
END:VEVENT
END:VCALENDAR