BEGIN:VCALENDAR
VERSION:2.0
PRODID:-//Goldgrube//myauktion.com//AT
CALSCALE:GREGORIAN
BEGIN:VEVENT
DTSTART:20260508T130500
DTEND:20260508T130530
LOCATION:Gewerbepark 13, 8562 Mooskirchen
DTSTAMP:20260424T180140
SUMMARY:MyAuktion: Ablauf Artikel Nr. 957660 KoRo Erdnusskerne geröstet 1kg 
URL;VALUE=URI:https://www.myauktion.com/versteigerung7668-position2445001-koro-erdnusskerne-geroestet-1kg.php
DESCRIPTION:Mhd 10.26
UID:myauktion-7668-2445001
BEGIN:VALARM
ACTION:DISPLAY
DESCRIPTION:Mhd 10.26
TRIGGER:-PT10M
END:VALARM
END:VEVENT
END:VCALENDAR