BEGIN:VCALENDAR
VERSION:2.0
PRODID:-//Goldgrube//myauktion.com//AT
CALSCALE:GREGORIAN
BEGIN:VEVENT
DTSTART:20260508T130800
DTEND:20260508T130830
LOCATION:Gewerbepark 13, 8562 Mooskirchen
DTSTAMP:20260425T015257
SUMMARY:MyAuktion: Ablauf Artikel Nr. 957662 KoRo Cashewkerne miz Toskanagewürz 500g 
URL;VALUE=URI:https://www.myauktion.com/versteigerung7668-position2445004-koro-cashewkerne-miz-toskanagewuerz-500g.php
DESCRIPTION:Mhd 30.9.26
UID:myauktion-7668-2445004
BEGIN:VALARM
ACTION:DISPLAY
DESCRIPTION:Mhd 30.9.26
TRIGGER:-PT10M
END:VALARM
END:VEVENT
END:VCALENDAR