BEGIN:VCALENDAR
VERSION:2.0
PRODID:-//Goldgrube//myauktion.com//AT
CALSCALE:GREGORIAN
BEGIN:VEVENT
DTSTART:20260508T154900
DTEND:20260508T154930
LOCATION:Gewerbepark 13, 8562 Mooskirchen
DTSTAMP:20260424T222212
SUMMARY:MyAuktion: Ablauf Artikel Nr. 958439 Sidroga Orangenblütentee mit 20 Filterbeutel 2er Set
URL;VALUE=URI:https://www.myauktion.com/versteigerung7668-position2445008-sidroga-orangenbluetentee-mit-20-filterbeutel-2er-set.php
DESCRIPTION:MHD: 05/2026
UID:myauktion-7668-2445008
BEGIN:VALARM
ACTION:DISPLAY
DESCRIPTION:MHD: 05/2026
TRIGGER:-PT10M
END:VALARM
END:VEVENT
END:VCALENDAR