BEGIN:VCALENDAR
VERSION:2.0
PRODID:-//Goldgrube//myauktion.com//AT
CALSCALE:GREGORIAN
BEGIN:VEVENT
DTSTART:20260508T155100
DTEND:20260508T155130
LOCATION:Gewerbepark 13, 8562 Mooskirchen
DTSTAMP:20260425T044440
SUMMARY:MyAuktion: Ablauf Artikel Nr. 958440 Oreo Double Stuf 
URL;VALUE=URI:https://www.myauktion.com/versteigerung7668-position2445016-oreo-double-stuf.php
DESCRIPTION:MHD: 05.05.2026
UID:myauktion-7668-2445016
BEGIN:VALARM
ACTION:DISPLAY
DESCRIPTION:MHD: 05.05.2026
TRIGGER:-PT10M
END:VALARM
END:VEVENT
END:VCALENDAR