BEGIN:VCALENDAR
VERSION:2.0
PRODID:-//Goldgrube//myauktion.com//AT
CALSCALE:GREGORIAN
BEGIN:VEVENT
DTSTART:20260508T151300
DTEND:20260508T151330
LOCATION:Gewerbepark 13, 8562 Mooskirchen
DTSTAMP:20260424T172645
SUMMARY:MyAuktion: Ablauf Artikel Nr. 958107 ESN Peanut Butter smooth 1000g 
URL;VALUE=URI:https://www.myauktion.com/versteigerung7668-position2445017-esn-peanut-butter-smooth-1000g.php
DESCRIPTION:MHD 02.07.2026 
UID:myauktion-7668-2445017
BEGIN:VALARM
ACTION:DISPLAY
DESCRIPTION:MHD 02.07.2026 
TRIGGER:-PT10M
END:VALARM
END:VEVENT
END:VCALENDAR