BEGIN:VCALENDAR
VERSION:2.0
PRODID:-//Goldgrube//myauktion.com//AT
CALSCALE:GREGORIAN
BEGIN:VEVENT
DTSTART:20260508T140700
DTEND:20260508T140730
LOCATION:Gewerbepark 13, 8562 Mooskirchen
DTSTAMP:20260424T180139
SUMMARY:MyAuktion: Ablauf Artikel Nr. 957947 Strock Merci Finest Selection 675g 
URL;VALUE=URI:https://www.myauktion.com/versteigerung7668-position2445020-strock-merci-finest-selection-675g.php
DESCRIPTION:MHD: 01/09/26
UID:myauktion-7668-2445020
BEGIN:VALARM
ACTION:DISPLAY
DESCRIPTION:MHD: 01/09/26
TRIGGER:-PT10M
END:VALARM
END:VEVENT
END:VCALENDAR