BEGIN:VCALENDAR
VERSION:2.0
PRODID:-//Goldgrube//myauktion.com//AT
CALSCALE:GREGORIAN
BEGIN:VEVENT
DTSTART:20260508T151600
DTEND:20260508T151630
LOCATION:Gewerbepark 13, 8562 Mooskirchen
DTSTAMP:20260424T160234
SUMMARY:MyAuktion: Ablauf Artikel Nr. 958109 ESN Designer Whey Protein Vanila Milk Flavor 908g
URL;VALUE=URI:https://www.myauktion.com/versteigerung7668-position2445021-esn-designer-whey-protein-vanila-milk-flavor-908g.php
DESCRIPTION:MHD 30.04.2027 
UID:myauktion-7668-2445021
BEGIN:VALARM
ACTION:DISPLAY
DESCRIPTION:MHD 30.04.2027 
TRIGGER:-PT10M
END:VALARM
END:VEVENT
END:VCALENDAR