BEGIN:VCALENDAR
VERSION:2.0
PRODID:-//Goldgrube//myauktion.com//AT
CALSCALE:GREGORIAN
BEGIN:VEVENT
DTSTART:20260508T151700
DTEND:20260508T151730
LOCATION:Gewerbepark 13, 8562 Mooskirchen
DTSTAMP:20260424T160248
SUMMARY:MyAuktion: Ablauf Artikel Nr. 958110 ESN Designer Whey Protein Stracciatella Flavor 908g
URL;VALUE=URI:https://www.myauktion.com/versteigerung7668-position2445022-esn-designer-whey-protein-stracciatella-flavor-908g.php
DESCRIPTION:MHD 31.03.2027 
UID:myauktion-7668-2445022
BEGIN:VALARM
ACTION:DISPLAY
DESCRIPTION:MHD 31.03.2027 
TRIGGER:-PT10M
END:VALARM
END:VEVENT
END:VCALENDAR