BEGIN:VCALENDAR
VERSION:2.0
PRODID:-//Goldgrube//myauktion.com//AT
CALSCALE:GREGORIAN
BEGIN:VEVENT
DTSTART:20260508T151900
DTEND:20260508T151930
LOCATION:Gewerbepark 13, 8562 Mooskirchen
DTSTAMP:20260424T180139
SUMMARY:MyAuktion: Ablauf Artikel Nr. 958112 ESN Isoclear Whey Protein Isolate Peach Iced Tea Flavor 908g 
URL;VALUE=URI:https://www.myauktion.com/versteigerung7668-position2445026-esn-isoclear-whey-protein-isolate-peach-iced-tea-flavor-908g.php
DESCRIPTION:MHD 31.03.2027 
UID:myauktion-7668-2445026
BEGIN:VALARM
ACTION:DISPLAY
DESCRIPTION:MHD 31.03.2027 
TRIGGER:-PT10M
END:VALARM
END:VEVENT
END:VCALENDAR