BEGIN:VCALENDAR
VERSION:2.0
PRODID:-//Goldgrube//myauktion.com//AT
CALSCALE:GREGORIAN
BEGIN:VEVENT
DTSTART:20260508T152000
DTEND:20260508T152030
LOCATION:Gewerbepark 13, 8562 Mooskirchen
DTSTAMP:20260424T152126
SUMMARY:MyAuktion: Ablauf Artikel Nr. 958113 ESN Ultrapure Creatine Premium Grade 300vegan Capsules 
URL;VALUE=URI:https://www.myauktion.com/versteigerung7668-position2445027-esn-ultrapure-creatine-premium-grade-300vegan-capsules.php
DESCRIPTION:MHD 30.06.2027 
UID:myauktion-7668-2445027
BEGIN:VALARM
ACTION:DISPLAY
DESCRIPTION:MHD 30.06.2027 
TRIGGER:-PT10M
END:VALARM
END:VEVENT
END:VCALENDAR