BEGIN:VCALENDAR
VERSION:2.0
PRODID:-//Goldgrube//myauktion.com//AT
CALSCALE:GREGORIAN
BEGIN:VEVENT
DTSTART:20260508T152100
DTEND:20260508T152130
LOCATION:Gewerbepark 13, 8562 Mooskirchen
DTSTAMP:20260424T160247
SUMMARY:MyAuktion: Ablauf Artikel Nr. 958114 ESN Ashwa+ 120vegan Capsules 
URL;VALUE=URI:https://www.myauktion.com/versteigerung7668-position2445028-esn-ashwa-120vegan-capsules.php
DESCRIPTION:MHD 10.10.2027 
UID:myauktion-7668-2445028
BEGIN:VALARM
ACTION:DISPLAY
DESCRIPTION:MHD 10.10.2027 
TRIGGER:-PT10M
END:VALARM
END:VEVENT
END:VCALENDAR