BEGIN:VCALENDAR
VERSION:2.0
PRODID:-//Goldgrube//myauktion.com//AT
CALSCALE:GREGORIAN
BEGIN:VEVENT
DTSTART:20260508T152200
DTEND:20260508T152230
LOCATION:Gewerbepark 13, 8562 Mooskirchen
DTSTAMP:20260424T160246
SUMMARY:MyAuktion: Ablauf Artikel Nr. 958115 ESN Vitamin D3+K2 120Capsules 
URL;VALUE=URI:https://www.myauktion.com/versteigerung7668-position2445029-esn-vitamin-d3-k2-120capsules.php
DESCRIPTION:MHD 30.11.2027 
UID:myauktion-7668-2445029
BEGIN:VALARM
ACTION:DISPLAY
DESCRIPTION:MHD 30.11.2027 
TRIGGER:-PT10M
END:VALARM
END:VEVENT
END:VCALENDAR