BEGIN:VCALENDAR
VERSION:2.0
PRODID:-//Goldgrube//myauktion.com//AT
CALSCALE:GREGORIAN
BEGIN:VEVENT
DTSTART:20260508T160800
DTEND:20260508T160830
LOCATION:Gewerbepark 13, 8562 Mooskirchen
DTSTAMP:20260424T152127
SUMMARY:MyAuktion: Ablauf Artikel Nr. 958442 ESN Essentials Pro Nahrungsergänzungskapseln, 500ml
URL;VALUE=URI:https://www.myauktion.com/versteigerung7668-position2445030-esn-essentials-pro-nahrungsergaenzungskapseln-500ml.php
DESCRIPTION:MHD: 29.08.2027
UID:myauktion-7668-2445030
BEGIN:VALARM
ACTION:DISPLAY
DESCRIPTION:MHD: 29.08.2027
TRIGGER:-PT10M
END:VALARM
END:VEVENT
END:VCALENDAR