BEGIN:VCALENDAR
VERSION:2.0
PRODID:-//Goldgrube//myauktion.com//AT
CALSCALE:GREGORIAN
BEGIN:VEVENT
DTSTART:20260508T152300
DTEND:20260508T152330
LOCATION:Gewerbepark 13, 8562 Mooskirchen
DTSTAMP:20260424T172643
SUMMARY:MyAuktion: Ablauf Artikel Nr. 958116 ESN Magnesium Bisglycinate 120Vegan Capsules 
URL;VALUE=URI:https://www.myauktion.com/versteigerung7668-position2445031-esn-magnesium-bisglycinate-120vegan-capsules.php
DESCRIPTION:MHD 31.10.2027 
UID:myauktion-7668-2445031
BEGIN:VALARM
ACTION:DISPLAY
DESCRIPTION:MHD 31.10.2027 
TRIGGER:-PT10M
END:VALARM
END:VEVENT
END:VCALENDAR