BEGIN:VCALENDAR
VERSION:2.0
PRODID:-//Goldgrube//myauktion.com//AT
CALSCALE:GREGORIAN
BEGIN:VEVENT
DTSTART:20260508T160900
DTEND:20260508T160930
LOCATION:Gewerbepark 13, 8562 Mooskirchen
DTSTAMP:20260424T160247
SUMMARY:MyAuktion: Ablauf Artikel Nr. 958443 ESN Immunity Support Kapseln 250ml
URL;VALUE=URI:https://www.myauktion.com/versteigerung7668-position2445032-esn-immunity-support-kapseln-250ml.php
DESCRIPTION:MHD: 08.05.2027
UID:myauktion-7668-2445032
BEGIN:VALARM
ACTION:DISPLAY
DESCRIPTION:MHD: 08.05.2027
TRIGGER:-PT10M
END:VALARM
END:VEVENT
END:VCALENDAR