BEGIN:VCALENDAR
VERSION:2.0
PRODID:-//Goldgrube//myauktion.com//AT
CALSCALE:GREGORIAN
BEGIN:VEVENT
DTSTART:20260508T152500
DTEND:20260508T152530
LOCATION:Gewerbepark 13, 8562 Mooskirchen
DTSTAMP:20260424T160250
SUMMARY:MyAuktion: Ablauf Artikel Nr. 958117 ESN Zinc 120vegan Capsules 
URL;VALUE=URI:https://www.myauktion.com/versteigerung7668-position2445033-esn-zinc-120vegan-capsules.php
DESCRIPTION:MHD 30.09.2027 
UID:myauktion-7668-2445033
BEGIN:VALARM
ACTION:DISPLAY
DESCRIPTION:MHD 30.09.2027 
TRIGGER:-PT10M
END:VALARM
END:VEVENT
END:VCALENDAR