BEGIN:VCALENDAR
VERSION:2.0
PRODID:-//Goldgrube//myauktion.com//AT
CALSCALE:GREGORIAN
BEGIN:VEVENT
DTSTART:20260508T152600
DTEND:20260508T152630
LOCATION:Gewerbepark 13, 8562 Mooskirchen
DTSTAMP:20260424T160244
SUMMARY:MyAuktion: Ablauf Artikel Nr. 958118 More Protein Iced Matcha Latte Original Taste 500g
URL;VALUE=URI:https://www.myauktion.com/versteigerung7668-position2445034-more-protein-iced-matcha-latte-original-taste-500g.php
DESCRIPTION:MHD 31.03.2027 
UID:myauktion-7668-2445034
BEGIN:VALARM
ACTION:DISPLAY
DESCRIPTION:MHD 31.03.2027 
TRIGGER:-PT10M
END:VALARM
END:VEVENT
END:VCALENDAR