BEGIN:VCALENDAR
VERSION:2.0
PRODID:-//Goldgrube//myauktion.com//AT
CALSCALE:GREGORIAN
BEGIN:VEVENT
DTSTART:20260508T161000
DTEND:20260508T161030
LOCATION:Gewerbepark 13, 8562 Mooskirchen
DTSTAMP:20260424T222207
SUMMARY:MyAuktion: Ablauf Artikel Nr. 958444 ESN Magnesium Complex Kapseln, 200ml
URL;VALUE=URI:https://www.myauktion.com/versteigerung7668-position2445036-esn-magnesium-complex-kapseln-200ml.php
DESCRIPTION:MHD: 30.09.2027
UID:myauktion-7668-2445036
BEGIN:VALARM
ACTION:DISPLAY
DESCRIPTION:MHD: 30.09.2027
TRIGGER:-PT10M
END:VALARM
END:VEVENT
END:VCALENDAR