BEGIN:VCALENDAR
VERSION:2.0
PRODID:-//Goldgrube//myauktion.com//AT
CALSCALE:GREGORIAN
BEGIN:VEVENT
DTSTART:20260508T152900
DTEND:20260508T152930
LOCATION:Gewerbepark 13, 8562 Mooskirchen
DTSTAMP:20260424T160240
SUMMARY:MyAuktion: Ablauf Artikel Nr. 958120 ESN Isoclear Whey Protein Isolate Cactus Fruit Flavor 908g 
URL;VALUE=URI:https://www.myauktion.com/versteigerung7668-position2445038-esn-isoclear-whey-protein-isolate-cactus-fruit-flavor-908g.php
DESCRIPTION:MHD 30.04.2027 
UID:myauktion-7668-2445038
BEGIN:VALARM
ACTION:DISPLAY
DESCRIPTION:MHD 30.04.2027 
TRIGGER:-PT10M
END:VALARM
END:VEVENT
END:VCALENDAR