BEGIN:VCALENDAR
VERSION:2.0
PRODID:-//Goldgrube//myauktion.com//AT
CALSCALE:GREGORIAN
BEGIN:VEVENT
DTSTART:20260508T153000
DTEND:20260508T153030
LOCATION:Gewerbepark 13, 8562 Mooskirchen
DTSTAMP:20260424T160241
SUMMARY:MyAuktion: Ablauf Artikel Nr. 958121 ESN Deisgner Flavor Powder Spekulatius Flavor 250g 
URL;VALUE=URI:https://www.myauktion.com/versteigerung7668-position2445039-esn-deisgner-flavor-powder-spekulatius-flavor-250g.php
DESCRIPTION:MHD 30.11.2026 
UID:myauktion-7668-2445039
BEGIN:VALARM
ACTION:DISPLAY
DESCRIPTION:MHD 30.11.2026 
TRIGGER:-PT10M
END:VALARM
END:VEVENT
END:VCALENDAR