BEGIN:VCALENDAR
VERSION:2.0
PRODID:-//Goldgrube//myauktion.com//AT
CALSCALE:GREGORIAN
BEGIN:VEVENT
DTSTART:20260508T131800
DTEND:20260508T131830
LOCATION:Gewerbepark 13, 8562 Mooskirchen
DTSTAMP:20260425T015244
SUMMARY:MyAuktion: Ablauf Artikel Nr. 957670 Morgenland diverse Obstsorten 
URL;VALUE=URI:https://www.myauktion.com/versteigerung7668-position2445041-morgenland-diverse-obstsorten.php
DESCRIPTION:Mhd 12.26
UID:myauktion-7668-2445041
BEGIN:VALARM
ACTION:DISPLAY
DESCRIPTION:Mhd 12.26
TRIGGER:-PT10M
END:VALARM
END:VEVENT
END:VCALENDAR