BEGIN:VCALENDAR
VERSION:2.0
PRODID:-//Goldgrube//myauktion.com//AT
CALSCALE:GREGORIAN
BEGIN:VEVENT
DTSTART:20260508T153200
DTEND:20260508T153230
LOCATION:Gewerbepark 13, 8562 Mooskirchen
DTSTAMP:20260424T160236
SUMMARY:MyAuktion: Ablauf Artikel Nr. 958123 ESN Magnesium Bisglycinate 120Vegan Capsules 
URL;VALUE=URI:https://www.myauktion.com/versteigerung7668-position2445042-esn-magnesium-bisglycinate-120vegan-capsules.php
DESCRIPTION:MHD 31.10.2027 
UID:myauktion-7668-2445042
BEGIN:VALARM
ACTION:DISPLAY
DESCRIPTION:MHD 31.10.2027 
TRIGGER:-PT10M
END:VALARM
END:VEVENT
END:VCALENDAR