BEGIN:VCALENDAR
VERSION:2.0
PRODID:-//Goldgrube//myauktion.com//AT
CALSCALE:GREGORIAN
BEGIN:VEVENT
DTSTART:20260508T153300
DTEND:20260508T153330
LOCATION:Gewerbepark 13, 8562 Mooskirchen
DTSTAMP:20260424T160240
SUMMARY:MyAuktion: Ablauf Artikel Nr. 958124 ESN Oil Spray Neutral Flavor 200ml 
URL;VALUE=URI:https://www.myauktion.com/versteigerung7668-position2445043-esn-oil-spray-neutral-flavor-200ml.php
DESCRIPTION:MHD 06.03.2027 
UID:myauktion-7668-2445043
BEGIN:VALARM
ACTION:DISPLAY
DESCRIPTION:MHD 06.03.2027 
TRIGGER:-PT10M
END:VALARM
END:VEVENT
END:VCALENDAR