BEGIN:VCALENDAR
VERSION:2.0
PRODID:-//Goldgrube//myauktion.com//AT
CALSCALE:GREGORIAN
BEGIN:VEVENT
DTSTART:20260508T161200
DTEND:20260508T161230
LOCATION:Gewerbepark 13, 8562 Mooskirchen
DTSTAMP:20260424T152128
SUMMARY:MyAuktion: Ablauf Artikel Nr. 958446 InnGreen Erdbeer-Aprikose 5er-Pack 
URL;VALUE=URI:https://www.myauktion.com/versteigerung7668-position2445044-inngreen-erdbeer-aprikose-5er-pack.php
DESCRIPTION:MHD nicht ersichtlich
UID:myauktion-7668-2445044
BEGIN:VALARM
ACTION:DISPLAY
DESCRIPTION:MHD nicht ersichtlich
TRIGGER:-PT10M
END:VALARM
END:VEVENT
END:VCALENDAR