BEGIN:VCALENDAR
VERSION:2.0
PRODID:-//Goldgrube//myauktion.com//AT
CALSCALE:GREGORIAN
BEGIN:VEVENT
DTSTART:20260508T131900
DTEND:20260508T131930
LOCATION:Gewerbepark 13, 8562 Mooskirchen
DTSTAMP:20260425T015244
SUMMARY:MyAuktion: Ablauf Artikel Nr. 957671 MorgenLand Bio Pflaumen 685g 
URL;VALUE=URI:https://www.myauktion.com/versteigerung7668-position2445045-morgenland-bio-pflaumen-685g.php
DESCRIPTION:Mhd 31.12 26
UID:myauktion-7668-2445045
BEGIN:VALARM
ACTION:DISPLAY
DESCRIPTION:Mhd 31.12 26
TRIGGER:-PT10M
END:VALARM
END:VEVENT
END:VCALENDAR