BEGIN:VCALENDAR
VERSION:2.0
PRODID:-//Goldgrube//myauktion.com//AT
CALSCALE:GREGORIAN
BEGIN:VEVENT
DTSTART:20260508T161300
DTEND:20260508T161330
LOCATION:Gewerbepark 13, 8562 Mooskirchen
DTSTAMP:20260424T152127
SUMMARY:MyAuktion: Ablauf Artikel Nr. 958447 InnGreen Kirsch-Mandel 5er-Pack 
URL;VALUE=URI:https://www.myauktion.com/versteigerung7668-position2445046-inngreen-kirsch-mandel-5er-pack.php
DESCRIPTION:MHD nicht ersichtlich 
UID:myauktion-7668-2445046
BEGIN:VALARM
ACTION:DISPLAY
DESCRIPTION:MHD nicht ersichtlich 
TRIGGER:-PT10M
END:VALARM
END:VEVENT
END:VCALENDAR