BEGIN:VCALENDAR
VERSION:2.0
PRODID:-//Goldgrube//myauktion.com//AT
CALSCALE:GREGORIAN
BEGIN:VEVENT
DTSTART:20260508T153400
DTEND:20260508T153430
LOCATION:Gewerbepark 13, 8562 Mooskirchen
DTSTAMP:20260424T160246
SUMMARY:MyAuktion: Ablauf Artikel Nr. 958125 CNP Cream of Rice the Carbohydrate King Vanila Custard Cream 2kg 
URL;VALUE=URI:https://www.myauktion.com/versteigerung7668-position2445047-cnp-cream-of-rice-the-carbohydrate-king-vanila-custard-cream-2kg.php
DESCRIPTION:MHD 04.2028 
UID:myauktion-7668-2445047
BEGIN:VALARM
ACTION:DISPLAY
DESCRIPTION:MHD 04.2028 
TRIGGER:-PT10M
END:VALARM
END:VEVENT
END:VCALENDAR