BEGIN:VCALENDAR
VERSION:2.0
PRODID:-//Goldgrube//myauktion.com//AT
CALSCALE:GREGORIAN
BEGIN:VEVENT
DTSTART:20260508T161600
DTEND:20260508T161630
LOCATION:Gewerbepark 13, 8562 Mooskirchen
DTSTAMP:20260424T160245
SUMMARY:MyAuktion: Ablauf Artikel Nr. 958450 InnGreen Kürbis-Crispy 5er-Pack 
URL;VALUE=URI:https://www.myauktion.com/versteigerung7668-position2445050-inngreen-kuerbis-crispy-5er-pack.php
DESCRIPTION:MHD n
UID:myauktion-7668-2445050
BEGIN:VALARM
ACTION:DISPLAY
DESCRIPTION:MHD n
TRIGGER:-PT10M
END:VALARM
END:VEVENT
END:VCALENDAR