BEGIN:VCALENDAR
VERSION:2.0
PRODID:-//Goldgrube//myauktion.com//AT
CALSCALE:GREGORIAN
BEGIN:VEVENT
DTSTART:20260508T161700
DTEND:20260508T161730
LOCATION:Gewerbepark 13, 8562 Mooskirchen
DTSTAMP:20260425T015302
SUMMARY:MyAuktion: Ablauf Artikel Nr. 958451 InnGreen Bio Gemüse Suppe 250g
URL;VALUE=URI:https://www.myauktion.com/versteigerung7668-position2445052-inngreen-bio-gemuese-suppe-250g.php
DESCRIPTION:MHD: 30.07.2027
UID:myauktion-7668-2445052
BEGIN:VALARM
ACTION:DISPLAY
DESCRIPTION:MHD: 30.07.2027
TRIGGER:-PT10M
END:VALARM
END:VEVENT
END:VCALENDAR