BEGIN:VCALENDAR
VERSION:2.0
PRODID:-//Goldgrube//myauktion.com//AT
CALSCALE:GREGORIAN
BEGIN:VEVENT
DTSTART:20260508T161800
DTEND:20260508T161830
LOCATION:Gewerbepark 13, 8562 Mooskirchen
DTSTAMP:20260424T152127
SUMMARY:MyAuktion: Ablauf Artikel Nr. 958452 InGreen diverse Riegel
URL;VALUE=URI:https://www.myauktion.com/versteigerung7668-position2445053-ingreen-diverse-riegel.php
DESCRIPTION:MHD: 01/2027
UID:myauktion-7668-2445053
BEGIN:VALARM
ACTION:DISPLAY
DESCRIPTION:MHD: 01/2027
TRIGGER:-PT10M
END:VALARM
END:VEVENT
END:VCALENDAR