BEGIN:VCALENDAR
VERSION:2.0
PRODID:-//Goldgrube//myauktion.com//AT
CALSCALE:GREGORIAN
BEGIN:VEVENT
DTSTART:20260508T161900
DTEND:20260508T161930
LOCATION:Gewerbepark 13, 8562 Mooskirchen
DTSTAMP:20260424T160241
SUMMARY:MyAuktion: Ablauf Artikel Nr. 958453 Campo Viejo Rioja Jahrgang 2008, 0750ml
URL;VALUE=URI:https://www.myauktion.com/versteigerung7668-position2445054-campo-viejo-rioja-jahrgang-2008-0750ml.php
DESCRIPTION:
UID:myauktion-7668-2445054
BEGIN:VALARM
ACTION:DISPLAY
DESCRIPTION:
TRIGGER:-PT10M
END:VALARM
END:VEVENT
END:VCALENDAR