BEGIN:VCALENDAR
VERSION:2.0
PRODID:-//Goldgrube//myauktion.com//AT
CALSCALE:GREGORIAN
BEGIN:VEVENT
DTSTART:20260508T162000
DTEND:20260508T162030
LOCATION:Gewerbepark 13, 8562 Mooskirchen
DTSTAMP:20260424T172643
SUMMARY:MyAuktion: Ablauf Artikel Nr. 958454 Ron Zacapa Centenario Etiqueta Negra Sistema Solera 23 0,7L Limitierte Edition
URL;VALUE=URI:https://www.myauktion.com/versteigerung7668-position2445055-ron-zacapa-centenario-etiqueta-negra-sistema-solera-23-07l-limitierte-edition.php
DESCRIPTION:
UID:myauktion-7668-2445055
BEGIN:VALARM
ACTION:DISPLAY
DESCRIPTION:
TRIGGER:-PT10M
END:VALARM
END:VEVENT
END:VCALENDAR