BEGIN:VCALENDAR
VERSION:2.0
PRODID:-//Goldgrube//myauktion.com//AT
CALSCALE:GREGORIAN
BEGIN:VEVENT
DTSTART:20260508T162100
DTEND:20260508T162130
LOCATION:Gewerbepark 13, 8562 Mooskirchen
DTSTAMP:20260424T160241
SUMMARY:MyAuktion: Ablauf Artikel Nr. 958455 Nutripure Creatine Creapure je 150g
URL;VALUE=URI:https://www.myauktion.com/versteigerung7668-position2445056-nutripure-creatine-creapure-je-150g.php
DESCRIPTION:MHD: 06/2028
UID:myauktion-7668-2445056
BEGIN:VALARM
ACTION:DISPLAY
DESCRIPTION:MHD: 06/2028
TRIGGER:-PT10M
END:VALARM
END:VEVENT
END:VCALENDAR