BEGIN:VCALENDAR
VERSION:2.0
PRODID:-//Goldgrube//myauktion.com//AT
CALSCALE:GREGORIAN
BEGIN:VEVENT
DTSTART:20260508T162200
DTEND:20260508T162230
LOCATION:Gewerbepark 13, 8562 Mooskirchen
DTSTAMP:20260424T160240
SUMMARY:MyAuktion: Ablauf Artikel Nr. 958456 Nutripure Whey Isolat Native mit Schokoladengeschmack, 4Kg
URL;VALUE=URI:https://www.myauktion.com/versteigerung7668-position2445057-nutripure-whey-isolat-native-mit-schokoladengeschmack-4kg.php
DESCRIPTION:MHD: 09/2026
UID:myauktion-7668-2445057
BEGIN:VALARM
ACTION:DISPLAY
DESCRIPTION:MHD: 09/2026
TRIGGER:-PT10M
END:VALARM
END:VEVENT
END:VCALENDAR