BEGIN:VCALENDAR
VERSION:2.0
PRODID:-//Goldgrube//myauktion.com//AT
CALSCALE:GREGORIAN
BEGIN:VEVENT
DTSTART:20260508T132000
DTEND:20260508T132030
LOCATION:Gewerbepark 13, 8562 Mooskirchen
DTSTAMP:20260425T015245
SUMMARY:MyAuktion: Ablauf Artikel Nr. 957684 Bio Hafer Drink Natur 8x1l 
URL;VALUE=URI:https://www.myauktion.com/versteigerung7668-position2445063-bio-hafer-drink-natur-8x1l.php
DESCRIPTION:Mhd 25.09.26
UID:myauktion-7668-2445063
BEGIN:VALARM
ACTION:DISPLAY
DESCRIPTION:Mhd 25.09.26
TRIGGER:-PT10M
END:VALARM
END:VEVENT
END:VCALENDAR