BEGIN:VCALENDAR
VERSION:2.0
PRODID:-//Goldgrube//myauktion.com//AT
CALSCALE:GREGORIAN
BEGIN:VEVENT
DTSTART:20260508T163200
DTEND:20260508T163230
LOCATION:Gewerbepark 13, 8562 Mooskirchen
DTSTAMP:20260424T160243
SUMMARY:MyAuktion: Ablauf Artikel Nr. 958466 Grasmuck Junger Steirer Jahrgang 2025 0,75L
URL;VALUE=URI:https://www.myauktion.com/versteigerung7668-position2445068-grasmuck-junger-steirer-jahrgang-2025-075l.php
DESCRIPTION:
UID:myauktion-7668-2445068
BEGIN:VALARM
ACTION:DISPLAY
DESCRIPTION:
TRIGGER:-PT10M
END:VALARM
END:VEVENT
END:VCALENDAR