BEGIN:VCALENDAR
VERSION:2.0
PRODID:-//Goldgrube//myauktion.com//AT
CALSCALE:GREGORIAN
BEGIN:VEVENT
DTSTART:20260508T141600
DTEND:20260508T141630
LOCATION:Gewerbepark 13, 8562 Mooskirchen
DTSTAMP:20260424T160254
SUMMARY:MyAuktion: Ablauf Artikel Nr. 957957 Diverse Govinda Cremen 
URL;VALUE=URI:https://www.myauktion.com/versteigerung7668-position2445071-diverse-govinda-cremen.php
DESCRIPTION:MHD: 02/27
UID:myauktion-7668-2445071
BEGIN:VALARM
ACTION:DISPLAY
DESCRIPTION:MHD: 02/27
TRIGGER:-PT10M
END:VALARM
END:VEVENT
END:VCALENDAR