BEGIN:VCALENDAR
VERSION:2.0
PRODID:-//Goldgrube//myauktion.com//AT
CALSCALE:GREGORIAN
BEGIN:VEVENT
DTSTART:20260508T143700
DTEND:20260508T143730
LOCATION:Gewerbepark 13, 8562 Mooskirchen
DTSTAMP:20260424T160247
SUMMARY:MyAuktion: Ablauf Artikel Nr. 958074 Lor Espresso Colombia Andes Kapseln 20Stk 
URL;VALUE=URI:https://www.myauktion.com/versteigerung7668-position2445074-lor-espresso-colombia-andes-kapseln-20stk.php
DESCRIPTION:MHD 15.09.2026 
UID:myauktion-7668-2445074
BEGIN:VALARM
ACTION:DISPLAY
DESCRIPTION:MHD 15.09.2026 
TRIGGER:-PT10M
END:VALARM
END:VEVENT
END:VCALENDAR