BEGIN:VCALENDAR
VERSION:2.0
PRODID:-//Goldgrube//myauktion.com//AT
CALSCALE:GREGORIAN
BEGIN:VEVENT
DTSTART:20260508T130700
DTEND:20260508T130730
LOCATION:Gewerbepark 13, 8562 Mooskirchen
DTSTAMP:20260424T180135
SUMMARY:MyAuktion: Ablauf Artikel Nr. 957661 KoRo Edelnuss Mischung 1kg
URL;VALUE=URI:https://www.myauktion.com/versteigerung7668-position2445081-koro-edelnuss-mischung-1kg.php
DESCRIPTION:Mhd 29.11.26
UID:myauktion-7668-2445081
BEGIN:VALARM
ACTION:DISPLAY
DESCRIPTION:Mhd 29.11.26
TRIGGER:-PT10M
END:VALARM
END:VEVENT
END:VCALENDAR