BEGIN:VCALENDAR
VERSION:2.0
PRODID:-//Goldgrube//myauktion.com//AT
CALSCALE:GREGORIAN
BEGIN:VEVENT
DTSTART:20260508T133900
DTEND:20260508T133930
LOCATION:Gewerbepark 13, 8562 Mooskirchen
DTSTAMP:20260424T180136
SUMMARY:MyAuktion: Ablauf Artikel Nr. 957944 Dr. Rath LyCin Nahrungsergänzungsmittel 420g 
URL;VALUE=URI:https://www.myauktion.com/versteigerung7668-position2445082-dr-rath-lycin-nahrungsergaenzungsmittel-420g.php
DESCRIPTION:MHD: 01/27 
UID:myauktion-7668-2445082
BEGIN:VALARM
ACTION:DISPLAY
DESCRIPTION:MHD: 01/27 
TRIGGER:-PT10M
END:VALARM
END:VEVENT
END:VCALENDAR