BEGIN:VCALENDAR
VERSION:2.0
PRODID:-//Goldgrube//myauktion.com//AT
CALSCALE:GREGORIAN
BEGIN:VEVENT
DTSTART:20260508T151000
DTEND:20260508T151030
LOCATION:Gewerbepark 13, 8562 Mooskirchen
DTSTAMP:20260424T160249
SUMMARY:MyAuktion: Ablauf Artikel Nr. 958103 Teekanne Organic English Breakfast Schwarzer Tee 20x10
URL;VALUE=URI:https://www.myauktion.com/versteigerung7668-position2445087-teekanne-organic-english-breakfast-schwarzer-tee-20x10.php
DESCRIPTION:MHD 10.07.2029 
UID:myauktion-7668-2445087
BEGIN:VALARM
ACTION:DISPLAY
DESCRIPTION:MHD 10.07.2029 
TRIGGER:-PT10M
END:VALARM
END:VEVENT
END:VCALENDAR