BEGIN:VCALENDAR
VERSION:2.0
PRODID:-//Goldgrube//myauktion.com//AT
CALSCALE:GREGORIAN
BEGIN:VEVENT
DTSTART:20260508T131200
DTEND:20260508T131230
LOCATION:Gewerbepark 13, 8562 Mooskirchen
DTSTAMP:20260424T152126
SUMMARY:MyAuktion: Ablauf Artikel Nr. 957665 Maxxi Clean Natron Hausbalt und Küchenhelfer 4500g 
URL;VALUE=URI:https://www.myauktion.com/versteigerung7668-position2445088-maxxi-clean-natron-hausbalt-und-kuechenhelfer-4500g.php
DESCRIPTION:Mhd 06.27
UID:myauktion-7668-2445088
BEGIN:VALARM
ACTION:DISPLAY
DESCRIPTION:Mhd 06.27
TRIGGER:-PT10M
END:VALARM
END:VEVENT
END:VCALENDAR