BEGIN:VCALENDAR
VERSION:2.0
PRODID:-//Goldgrube//myauktion.com//AT
CALSCALE:GREGORIAN
BEGIN:VEVENT
DTSTART:20260508T131500
DTEND:20260508T131530
LOCATION:Gewerbepark 13, 8562 Mooskirchen
DTSTAMP:20260424T150435
SUMMARY:MyAuktion: Ablauf Artikel Nr. 957668 ESN Desinger Protein Bar  White Chocolate Pistacio Clavor 12x45g 
URL;VALUE=URI:https://www.myauktion.com/versteigerung7668-position2445091-esn-desinger-protein-bar-white-chocolate-pistacio-clavor-12x45g.php
DESCRIPTION:Mhd 13.06.26
UID:myauktion-7668-2445091
BEGIN:VALARM
ACTION:DISPLAY
DESCRIPTION:Mhd 13.06.26
TRIGGER:-PT10M
END:VALARM
END:VEVENT
END:VCALENDAR