BEGIN:VCALENDAR
VERSION:2.0
PRODID:-//Goldgrube//myauktion.com//AT
CALSCALE:GREGORIAN
BEGIN:VEVENT
DTSTART:20260508T131700
DTEND:20260508T131730
LOCATION:Gewerbepark 13, 8562 Mooskirchen
DTSTAMP:20260424T180142
SUMMARY:MyAuktion: Ablauf Artikel Nr. 957669 ESN Desinger Protein Bar Strawberry Yoghurt Flavor 12x44g
URL;VALUE=URI:https://www.myauktion.com/versteigerung7668-position2445093-esn-desinger-protein-bar-strawberry-yoghurt-flavor-12x44g.php
DESCRIPTION:Mhd 29.05.26
UID:myauktion-7668-2445093
BEGIN:VALARM
ACTION:DISPLAY
DESCRIPTION:Mhd 29.05.26
TRIGGER:-PT10M
END:VALARM
END:VEVENT
END:VCALENDAR