BEGIN:VCALENDAR
VERSION:2.0
PRODID:-//Goldgrube//myauktion.com//AT
CALSCALE:GREGORIAN
BEGIN:VEVENT
DTSTART:20260508T152700
DTEND:20260508T152730
LOCATION:Gewerbepark 13, 8562 Mooskirchen
DTSTAMP:20260424T160244
SUMMARY:MyAuktion: Ablauf Artikel Nr. 958119 ESN Omega-3 60soft Gels 
URL;VALUE=URI:https://www.myauktion.com/versteigerung7668-position2445096-esn-omega-3-60soft-gels.php
DESCRIPTION:MHD 30.09.2027 
UID:myauktion-7668-2445096
BEGIN:VALARM
ACTION:DISPLAY
DESCRIPTION:MHD 30.09.2027 
TRIGGER:-PT10M
END:VALARM
END:VEVENT
END:VCALENDAR