BEGIN:VCALENDAR
VERSION:2.0
PRODID:-//Goldgrube//myauktion.com//AT
CALSCALE:GREGORIAN
BEGIN:VEVENT
DTSTART:20260508T153600
DTEND:20260508T153630
LOCATION:Gewerbepark 13, 8562 Mooskirchen
DTSTAMP:20260424T160253
SUMMARY:MyAuktion: Ablauf Artikel Nr. 958126 Mymüsli Bio Herbst Müsli 575g
URL;VALUE=URI:https://www.myauktion.com/versteigerung7668-position2445097-mymuesli-bio-herbst-muesli-575g.php
DESCRIPTION:MHD 28.05.2026 
UID:myauktion-7668-2445097
BEGIN:VALARM
ACTION:DISPLAY
DESCRIPTION:MHD 28.05.2026 
TRIGGER:-PT10M
END:VALARM
END:VEVENT
END:VCALENDAR