BEGIN:VCALENDAR
VERSION:2.0
PRODID:-//Goldgrube//myauktion.com//AT
CALSCALE:GREGORIAN
BEGIN:VEVENT
DTSTART:20260508T141300
DTEND:20260508T141330
LOCATION:Gewerbepark 13, 8562 Mooskirchen
DTSTAMP:20260424T172643
SUMMARY:MyAuktion: Ablauf Artikel Nr. 957956 Govinda Chufella Erdmandel-Kakao-Cream 2x220g 
URL;VALUE=URI:https://www.myauktion.com/versteigerung7668-position2445098-govinda-chufella-erdmandel-kakao-cream-2x220g.php
DESCRIPTION:<div>MHD: 02/27</div>
UID:myauktion-7668-2445098
BEGIN:VALARM
ACTION:DISPLAY
DESCRIPTION:<div>MHD: 02/27</div>
TRIGGER:-PT10M
END:VALARM
END:VEVENT
END:VCALENDAR