BEGIN:VCALENDAR
VERSION:2.0
PRODID:-//Goldgrube//myauktion.com//AT
CALSCALE:GREGORIAN
BEGIN:VEVENT
DTSTART:20260508T141800
DTEND:20260508T141830
LOCATION:Gewerbepark 13, 8562 Mooskirchen
DTSTAMP:20260424T160251
SUMMARY:MyAuktion: Ablauf Artikel Nr. 958064 Tellox Gemüse-Brühe 900g
URL;VALUE=URI:https://www.myauktion.com/versteigerung7668-position2445099-tellox-gemuese-bruehe-900g.php
DESCRIPTION:MHD 29.12.2026 
UID:myauktion-7668-2445099
BEGIN:VALARM
ACTION:DISPLAY
DESCRIPTION:MHD 29.12.2026 
TRIGGER:-PT10M
END:VALARM
END:VEVENT
END:VCALENDAR