BEGIN:VCALENDAR
VERSION:2.0
PRODID:-//Goldgrube//myauktion.com//AT
CALSCALE:GREGORIAN
BEGIN:VEVENT
DTSTART:20260508T142800
DTEND:20260508T142830
LOCATION:Gewerbepark 13, 8562 Mooskirchen
DTSTAMP:20260425T015257
SUMMARY:MyAuktion: Ablauf Artikel Nr. 958066 Prozis Tribus Max Kapseln 60Stk
URL;VALUE=URI:https://www.myauktion.com/versteigerung7668-position2445100-prozis-tribus-max-kapseln-60stk.php
DESCRIPTION:MHD 12.2027 
UID:myauktion-7668-2445100
BEGIN:VALARM
ACTION:DISPLAY
DESCRIPTION:MHD 12.2027 
TRIGGER:-PT10M
END:VALARM
END:VEVENT
END:VCALENDAR